BEGIN:VCALENDAR
VERSION:2.0
PRODID:-//Lodge 433 - ECPv6.15.20//NONSGML v1.0//EN
CALSCALE:GREGORIAN
METHOD:PUBLISH
X-WR-CALNAME:Lodge 433
X-ORIGINAL-URL:https://www.lodge433.com
X-WR-CALDESC:Events for Lodge 433
REFRESH-INTERVAL;VALUE=DURATION:PT1H
X-Robots-Tag:noindex
X-PUBLISHED-TTL:PT1H
BEGIN:VTIMEZONE
TZID:Europe/London
BEGIN:DAYLIGHT
TZOFFSETFROM:+0000
TZOFFSETTO:+0100
TZNAME:BST
DTSTART:20240331T010000
END:DAYLIGHT
BEGIN:STANDARD
TZOFFSETFROM:+0100
TZOFFSETTO:+0000
TZNAME:GMT
DTSTART:20241027T010000
END:STANDARD
BEGIN:DAYLIGHT
TZOFFSETFROM:+0000
TZOFFSETTO:+0100
TZNAME:BST
DTSTART:20250330T010000
END:DAYLIGHT
BEGIN:STANDARD
TZOFFSETFROM:+0100
TZOFFSETTO:+0000
TZNAME:GMT
DTSTART:20251026T010000
END:STANDARD
BEGIN:DAYLIGHT
TZOFFSETFROM:+0000
TZOFFSETTO:+0100
TZNAME:BST
DTSTART:20260329T010000
END:DAYLIGHT
BEGIN:STANDARD
TZOFFSETFROM:+0100
TZOFFSETTO:+0000
TZNAME:GMT
DTSTART:20261025T010000
END:STANDARD
END:VTIMEZONE
BEGIN:VEVENT
DTSTART;TZID=Europe/London:20250830T100000
DTEND;TZID=Europe/London:20250830T180000
DTSTAMP:20260421T172019
CREATED:20240904T131946Z
LAST-MODIFIED:20240904T131946Z
UID:3964-1756548000-1756576800@www.lodge433.com
SUMMARY:Lodge Bowling Day & Sponsored Walk
DESCRIPTION:
URL:https://www.lodge433.com/calendarevent/lodge-bowling-day-sponsored-walk/
LOCATION:Lodge 433\, 54 Main Street\, Ayrshire\, Dalmellington\, KA6 7QL\, United Kingdom
CATEGORIES:Lodge Event
END:VEVENT
END:VCALENDAR